BEGIN:VCALENDAR
VERSION:2.0
PRODID:-//ChamberMaster//Event Calendar 2.0//EN
METHOD:PUBLISH
X-PUBLISHED-TTL:P1H
REFRESH-INTERVAL:P1H
CALSCALE:GREGORIAN
BEGIN:VTIMEZONE
TZID:America/Chicago
BEGIN:DAYLIGHT
RRULE:FREQ=YEARLY;BYMONTH=3;BYDAY=2SU
DTSTART:20070101T000000
TZOFFSETFROM:-0600
TZOFFSETTO:-0500
TZNAME:Central Daylight Time
END:DAYLIGHT
BEGIN:STANDARD
RRULE:FREQ=YEARLY;BYMONTH=11;BYDAY=1SU
DTSTART:20070101T000000
TZOFFSETFROM:-0500
TZOFFSETTO:-0600
TZNAME:Central Standard Time
END:STANDARD
END:VTIMEZONE
BEGIN:VEVENT
DTSTART;TZID=America/Chicago:20260428T113000
DTEND;TZID=America/Chicago:20260428T130000
X-MICROSOFT-CDO-ALLDAYEVENT:FALSE
SUMMARY:Learn\, Network & Tour in Mustang Valley
DESCRIPTION:Visit with us at KB Homes in Mustang Valley! Learn how AI can support your business with Armadillo Automation and Tips on Property Taxes with EZ Tax Appeal. Tour KB Homes to win a Free Lunch at the next Chamber Meeting! Join us to network\, learn and enjoy Refreshments provided by KB Homes!
X-ALT-DESC;FMTTYPE=text/html:<!DOCTYPE html><html><head><title></title></head><body aria-disabled="false"><p>Visit with us at KB Homes in Mustang Valley! Learn how AI can support your business with Armadillo Automation and Tips on Property Taxes with EZ Tax Appeal. Tour KB Homes to win a Free Lunch at the next Chamber Meeting! Join us to network\, learn and enjoy Refreshments provided by KB Homes!</p></body></html>
LOCATION:MUSTANG VALLEY behind Manor Senior Highschool on 973 Manor TX 78653
UID:e.3127.1442431
SEQUENCE:3
DTSTAMP:20260421T021328Z
URL:https://business.manorchamber.com/event-calendar/Details/learn-network-tour-in-mustang-valley-1708430?sourceTypeId=Hub
END:VEVENT
END:VCALENDAR
